BEGIN:VCALENDAR
VERSION:2.0
X-WR-TIMEZONE:Europe/Paris
PRODID:-//Audencia//NONSGML v1.0//EN
CALSCALE:GREGORIAN
BEGIN:VEVENT
SUMMARY:Afterwork in San Francisco, USA
DTSTART:20181115T173000
DTEND:20181115T213000
UID:342
DTSTAMP:20260425T223813
LOCATION:Stanford Court Hotel 905 California St San Francisco, CA 94108
DESCRIPTION:Audencia's Executive MBA on a learning trip to San Francisco\n\nOn the occasion of the Executive MBA learning trip to SF, an afterwork gathering is being organised.\n\nCome and meet the group of Audencia Executives from France (Nantes and Paris) who are spending the week in Silicon Valley:\n\n	Date: Thursday 15 November\n	Time: from 17:30\n	Location: Stanford Court Hotel\n	Address: 905 California St, San Francisco, CA 94108 \n	Telephone: (415) 989-3500\n\n\nThe programme is as follows:\n \n17:30-19:00 Presentation by Jordi Torras, Founder and CEO of Inbenta "Being a European entrepreneur in Silicon Valley: a Survival Guide" \n19:00-21:30 Eat and Drink hosted by Audencia Alumni\n\n\n\nInbenta is an AI company headquartered in Foster City, California with offices in: São Paulo, Toulouse and Tokyo. Inbenta provides natural language processing and semantic search through Artificial Intelligence.\nJordi Torras, an alumnus of the EuroMBA programme (Audencia being one of the partners delivering this blended executive MBA programme), founded Inbenta in Barcelona in 2005. In 2012 he moved to California to continue to grow Inbenta there.
BEGIN:VALARM
ACTION:DISPLAY
TRIGGER:-PT60M
DESCRIPTION:Afterwork in San Francisco, USA
END:VALARM
END:VEVENT
END:VCALENDAR