BEGIN:VCALENDAR
VERSION:2.0
X-WR-TIMEZONE:Europe/Paris
PRODID:-//Audencia//NONSGML v1.0//EN
CALSCALE:GREGORIAN
BEGIN:VEVENT
SUMMARY:Cérémonie de remise de diplôme GE 18
DTSTART:20181024T153000
DTEND:20181024T180000
UID:341
DTSTAMP:20260425T205841
LOCATION:Cité des congrès, Nantes
DESCRIPTION:La cérémonie de remise de diplôme pour la promotion Grande Ecole 2018 se tiendra le samedi 20 octobre à la Cité des Congrès de Nantes.\n\nUn événement riche en échange, partage et joie, qui symbolisera l'achèvement d'années d'études, pour les 754 diplômés et leurs familles. \n\nDéjà composé de plus de 25 000 diplômés, la promotion GE 18 rejoindra donc officiellement ses ainés dans le réseau.
BEGIN:VALARM
ACTION:DISPLAY
TRIGGER:-PT60M
DESCRIPTION:Cérémonie de remise de diplôme GE 18
END:VALARM
END:VEVENT
END:VCALENDAR