BEGIN:VCALENDAR
VERSION:2.0
X-WR-TIMEZONE:Europe/Paris
PRODID:-//Audencia//NONSGML v1.0//EN
CALSCALE:GREGORIAN
BEGIN:VEVENT
SUMMARY:Conférence et apéritif Paris : Évolutions et tendances des métiers de la communication et des médias, quelles compétences clés pour demain ?
DTSTART:20181129T190000
DTEND:20181129T230000
UID:340
DTSTAMP:20260425T205844
LOCATION:Maison Audencia Alumni  95 rue Falguière - 15ème
DESCRIPTION:Sylvie Chancelier, Directrice d'Audencia SciencesCom, a le plaisir de vous inviter à une rencontre sur le thème "Évolutions et tendances des métiers de la communication et des médias : quelles compétences clés pour demain ?". \n\nDans le cadre de la réflexion sur l'évolution de la maquette pédagogique d'Audencia SciencesCom, l'école a réalisé une étude qualitative auprès d'entreprises, agences et institutions sur les évolutions des métiers de la communication et des médias et une projection des compétences attendues. \n\nAprès une présentation des résultats de l'étude, des Grands témoins partageront leur vision. S'en suivra un échange avec l'ensemble des invités : alumni et partenaires de l'école.\n\nGrands témoins de la soirée :\n- Sophie Durand - Directrice communication, Randstad France\n- Sophie Palès - Déléguée Générale de l'AFCI\n- Arnaud Chaigneau - Directeur du NUMA\n- Edouard Rencker - Président, Makheia Group
BEGIN:VALARM
ACTION:DISPLAY
TRIGGER:-PT60M
DESCRIPTION:Conférence et apéritif Paris : Évolutions et tendances des métiers de la communication et des médias, quelles compétences clés pour demain ?
END:VALARM
END:VEVENT
END:VCALENDAR