BEGIN:VCALENDAR
VERSION:2.0
X-WR-TIMEZONE:Europe/Paris
PRODID:-//Audencia//NONSGML v1.0//EN
CALSCALE:GREGORIAN
BEGIN:VEVENT
SUMMARY:Cocktail with the French Consul in Rio de Janeiro, Brazil
DTSTART:20181024T190000
DTEND:20181024T210000
UID:339
DTSTAMP:20260425T205822
LOCATION:Consulado Geral da França Av. Presidente Antonio Carlos 58/11° andar - Centro Rio de Janeiro
DESCRIPTION:This is Rio de Janeiro's first gathering of alumni from French Grandes Ecoles.\n\nJean-Paul Guihaumé, Consul General of France in Rio de Janeiro, has the pleasure of inviting alumni from French Grandes Ecoles to join him for cocktails:\n \n\n	On Wednesday 24 October\n	From 19:00 to 21:00\n	At the French Consulate in Rio de Janeiro\n\n\n\nPlease confirm your presence via email\n\n\n\n\n\n\n\n\n 
BEGIN:VALARM
ACTION:DISPLAY
TRIGGER:-PT60M
DESCRIPTION:Cocktail with the French Consul in Rio de Janeiro, Brazil
END:VALARM
END:VEVENT
END:VCALENDAR