BEGIN:VCALENDAR
VERSION:2.0
X-WR-TIMEZONE:Europe/Paris
PRODID:-//Audencia//NONSGML v1.0//EN
CALSCALE:GREGORIAN
BEGIN:VEVENT
SUMMARY:Petit déjeuner thématique Alumni
DTSTART:20181113T083000
DTEND:20181113T100000
UID:338
DTSTAMP:20260425T205846
LOCATION:IDEA - 16 boulevard de Cardiff Nantes 4ème étage
DESCRIPTION:Bonjour à tous,\n \nLa plupart d’entre vous connaissent déjà l’excitation procurée par l’exercice des micro-agences : une problématique concrète, une équipe inédite, une vraie stimulation intellectuelle… N’auriez-vous pas envie de (re)goûter à tout ça le temps d’un bon petit-déjeuner ? :) C’est exactement ce que nous vous proposons le mardi 13 novembre à 8h30 !\n \nLe concept : des micro-agences de 4-5 alumnis regroupés pour travailler sur une problématique choisie en début de session et relative à un thème défini à l’avance.\nLe thème : pour cette session, nous parlerons des Marques à faible notoriété.\nLe lieu:  Alice Thiriet, alumni 2011, vous invite dans les locaux d'Idea.\nLa durée : 1h30 pour libérer toute notre créativité, présenter nos réponses aux problématiques et bien-sûr profiter des viennoiseries !\n\nMerci également de venir avec votre problématique liée au thème, si vous en avez une bien entendu :)\n \nMerci par avance pour vos retours et à très bientôt !\n\n\nAlice & Jeremy\n 
BEGIN:VALARM
ACTION:DISPLAY
TRIGGER:-PT60M
DESCRIPTION:Petit déjeuner thématique Alumni
END:VALARM
END:VEVENT
END:VCALENDAR