BEGIN:VCALENDAR
VERSION:2.0
X-WR-TIMEZONE:Europe/Paris
PRODID:-//Audencia//NONSGML v1.0//EN
CALSCALE:GREGORIAN
BEGIN:VEVENT
SUMMARY:Afterwork in Hong Kong
DTSTART:20181115T190000
DTEND:20181115T220000
UID:337
DTSTAMP:20260425T205725
LOCATION:Appendix Coffee & Bar 3/F, Tower 535, 535 Jaffe Road, Causeway Bay Hong Kong
DESCRIPTION:Another exciting afterwork has been scheduled in Hong Kong\n\nAlumni from Audencia, Kedge and GEM are invited by their respective ambassadors to join the gathering:\n\nOn Thursday 15 November\nFrom 19:00\nAt The Appendix Coffee & Bar\nOn Causeway Bay (3/F, Tower 535, 535 Jaffe Road)\n\n \nTo register, contact Audencia's ambassador Benoit via this link\n\n\n 
BEGIN:VALARM
ACTION:DISPLAY
TRIGGER:-PT60M
DESCRIPTION:Afterwork in Hong Kong
END:VALARM
END:VEVENT
END:VCALENDAR