BEGIN:VCALENDAR
VERSION:2.0
X-WR-TIMEZONE:Europe/Paris
PRODID:-//Audencia//NONSGML v1.0//EN
CALSCALE:GREGORIAN
BEGIN:VEVENT
SUMMARY:Le week-end MDC (spécial diplômés & étudiants du MDC)
DTSTART:20181201T090000
DTEND:20181202T180000
UID:336
DTSTAMP:20260425T205841
LOCATION:MédiaCampus - 41 boulevard de la Prairie au Duc 44000 Nantes
DESCRIPTION:« Venez revivre l’expérience MDC le temps d’un week-end du 1er au 2 décembre.\nNous vous attendons pour :\n- Faire preuve de créativité\n- Apprendre à vous connaître\n- Découvrir notre nouveau campus\n \nPour info, un bus partira de Paris vendredi 30 novembre pour vous emmener à Nantes. Un bus retour est également prévu.\nLes conjoints ne seront malheureusement pas de la partie.\nLe logement est à votre charge, mais nous pourrons certainement loger certains d’entre vous chez nous. »\n \nl'équipe orga du WE-MDC\n 
BEGIN:VALARM
ACTION:DISPLAY
TRIGGER:-PT60M
DESCRIPTION:Le week-end MDC (spécial diplômés & étudiants du MDC)
END:VALARM
END:VEVENT
END:VCALENDAR