BEGIN:VCALENDAR
VERSION:2.0
X-WR-TIMEZONE:Europe/Paris
PRODID:-//Audencia//NONSGML v1.0//EN
CALSCALE:GREGORIAN
BEGIN:VEVENT
SUMMARY:Afterwork with Uwe Supper in Vienna, Austria
DTSTART:20181120T190000
DTEND:20181120T210000
UID:335
DTSTAMP:20260425T205719
LOCATION:Exact location TBC (asap) Vienna - Austria
DESCRIPTION:On the occasion of Uwe Supper's -flying- visit to Vienna, he would be delighted if students, alumni and friends could join him for an informal afterwork:\n \nTuesday 20 November\nFrom 19:00 hrs\nExact location to be confirmed\n\nRegister now!
BEGIN:VALARM
ACTION:DISPLAY
TRIGGER:-PT60M
DESCRIPTION:Afterwork with Uwe Supper in Vienna, Austria
END:VALARM
END:VEVENT
END:VCALENDAR