BEGIN:VCALENDAR
VERSION:2.0
X-WR-TIMEZONE:Europe/Paris
PRODID:-//Audencia//NONSGML v1.0//EN
CALSCALE:GREGORIAN
BEGIN:VEVENT
SUMMARY:Career Connections Week
DTSTART:20190121T090000
DTEND:20190124T180000
UID:333
DTSTAMP:20260425T205902
LOCATION:Audencia - Atlantic campus - Nantes
DESCRIPTION:\n\n\n\n\n\n\n\n\n\n\nA vos agendas ! Du 21 au 24 janvier 2019 aura lieu un événement inédit à Audencia Business School : la Career Connections Week.\nUn nouveau rendez-vous où le réseau des alumni se mobilise pour coacher les étudiants du programme Grande Ecole : conseils, temps forts, partages d'expériences...\n \n\nINSCRIPTIONS 
BEGIN:VALARM
ACTION:DISPLAY
TRIGGER:-PT60M
DESCRIPTION:Career Connections Week
END:VALARM
END:VEVENT
END:VCALENDAR