BEGIN:VCALENDAR
VERSION:2.0
X-WR-TIMEZONE:Europe/Paris
PRODID:-//Audencia//NONSGML v1.0//EN
CALSCALE:GREGORIAN
BEGIN:VEVENT
SUMMARY:Webinar: Gabriella Snoeck & Dee Clarke on how to get found on LinkedIn
DTSTART:20181206T133000
DTEND:20181206T144500
UID:332
DTSTAMP:20260425T205909
LOCATION:ONLINE
DESCRIPTION:Join the panel webinar on how to get found on LinkedIn on Thursday, 6 December 2018\n\nEmployers have always preferred to hire known candidates and avoid the rigmarole of advertising roles. Now many recruiters are further scaling back open hiring. Instead they use sourcing teams to reach out to potential hires, often via LinkedIn. Smart candidates need to spend less time applying for jobs but work harder to make themselves easy to find for the roles they are targeting. In this panel webinar we will explore how recruiters now identify candidates, what they look for in a profile and how to maximise your chances of being “sourced”. \n\nPanellists:\n\n	Gabriella Snoeck (Executive Search Consultant)\n	Dee Clarke (Head of EU Campus programmes, Amazon)\n	 \n\n \n\n\nREGISTER HERE\nThere are 200 free tickets for member alumni and students here via the registration page\n(use code “AUDstudent” if the free ticket is not shown)\n \n\n\n \n\nThe live webinar is from 13:30 to 14:45 (Paris time) on 6 December.\nIf you are not available, register to ensure you receive the replay!\nAll attendees will receive the meeting slides, a recording and resource pack.
BEGIN:VALARM
ACTION:DISPLAY
TRIGGER:-PT60M
DESCRIPTION:Webinar: Gabriella Snoeck & Dee Clarke on how to get found on LinkedIn
END:VALARM
END:VEVENT
END:VCALENDAR