BEGIN:VCALENDAR
VERSION:2.0
X-WR-TIMEZONE:Europe/Paris
PRODID:-//Audencia//NONSGML v1.0//EN
CALSCALE:GREGORIAN
BEGIN:VEVENT
SUMMARY:Webinar:  Dave Evans on designing your Career
DTSTART:20181114T193000
DTEND:20181114T204500
UID:331
DTSTAMP:20260426T001728
LOCATION:ONLINE
DESCRIPTION:Join the webinar on designing your career on Wednesday, 14 November 2018\n\n\nDeciding on your next career step is never easy. Being told to follow your passion typically makes it worse. The solution proposed by Dave Evans (creator of one of Stanford University’s most popular elective courses and author of New York Times #1 bestseller Designing Your Life) is to apply design thinking to career management. We will talk about how to uncover options and prototype new career directions, how to reframe “insoluble” problems and how to build towards a solution.\n \n\n\nREGISTER HERE\nThere are 200 free tickets for member alumni and students here via the registration page\n(use code “AUDstudent” if the free ticket is not shown)\n\n \n\n\nThe live webinar is from 19:30 to 20:45 (Paris time) on 14 November.\nIf you are not available, register to ensure you receive the replay!\nAll attendees will receive the meeting slides, a recording and resource pack.
BEGIN:VALARM
ACTION:DISPLAY
TRIGGER:-PT60M
DESCRIPTION:Webinar:  Dave Evans on designing your Career
END:VALARM
END:VEVENT
END:VCALENDAR