BEGIN:VCALENDAR
VERSION:2.0
X-WR-TIMEZONE:Europe/Paris
PRODID:-//Audencia//NONSGML v1.0//EN
CALSCALE:GREGORIAN
BEGIN:VEVENT
SUMMARY:Pre-Employment Workshop for Finding Jobs in China
DTSTART:20181004T140000
DTEND:20181004T160000
UID:330
DTSTAMP:20260425T205851
LOCATION:Amphi 480, Audencia Business School, 8 Route de la Jonelière, 44312 Nantes
DESCRIPTION:Register Now! 80 Days Event for Overseas Chinese Talent \n \nAs a student studying abroad, when should you start seeking job opportunities in China? How do you write a proper CV that get HR’s attention? How should you prepare for different types of interviews in China? How can you negotiate salary with HR? There is much more you should know about job seeking in China than you thought – and now there is help while you are still at Audencia Business School.\n \nLockin China, as the largest recruitment platform specialized in supporting Chinese overseas students, has invited experienced HR and employers to bring you the most professional and practical pre-employment workshop for finding jobs in China. Last year, more than 10,000 overseas students found jobs after attending Lockin China 80 Days Event. This year, we will bring even more positions that you can choose from to realize your true value in a career. You will have more choices and broader access with tens of thousands of vacancies from 1,000 employers provided exclusively for overseas talent. 1000 global universities and Lockin China stand united to get you hired in this coming graduation season. \n \nDuring the 90-minute workshop, you will be able to access the same employment resources as graduates in China! \nYou will receive: \n• The latest information about China’s job market \n• The recruitment process used by best-known employers in 2018 \n• Step-by-step guide to online application skills \n• How to write a resume that will get you through screening processes \nAnd even more practical tactics: \n• Guidance on how to interact in group discussions \n• Individual mock interview practice \n• Rehearsals for face-to-face job offers and contract negotiations \nWe hope you'll join us for this presentation and bring a friend! This workshop will be presented in Mandarin with PPT materials in English. Dress is business casual or student attire. \n \nClick here to get seat\n\nFor more info about 80 Days Events, please click here. Thousands of fresh positions are waiting for you to apply. \n 
BEGIN:VALARM
ACTION:DISPLAY
TRIGGER:-PT60M
DESCRIPTION:Pre-Employment Workshop for Finding Jobs in China
END:VALARM
END:VEVENT
END:VCALENDAR