BEGIN:VCALENDAR
VERSION:2.0
X-WR-TIMEZONE:Europe/Paris
PRODID:-//Audencia//NONSGML v1.0//EN
CALSCALE:GREGORIAN
BEGIN:VEVENT
SUMMARY:MSc FAM gathering in Paris, France
DTSTART:20181021T190000
DTEND:20181021T200000
UID:329
DTSTAMP:20260425T205908
LOCATION:Bateaux-mouches Pont de l'Alma, Rive Droite Paris
DESCRIPTION:Calling all MSc FAM alumni in Paris on 21 October!\n\nThis year's Food & Agribusiness Management (FAM) are spending a few days in Paris to visit the SIAL agricultural fair.\n\nOn the evening of Sunday 21 October, students and their programme director will be testing the bateaux-mouches on the River Seine. This is a great opportunity for alumni (or soon to be alumni) to some and join them.\n\nThe meeting point is the Bateaux-mouches at the Pont de l'Alma at 19:00, followed by an informal dinner.\n\nThe boat trip will cost 14€ and the meal will be paid for by each participant.
BEGIN:VALARM
ACTION:DISPLAY
TRIGGER:-PT60M
DESCRIPTION:MSc FAM gathering in Paris, France
END:VALARM
END:VEVENT
END:VCALENDAR