BEGIN:VCALENDAR
VERSION:2.0
X-WR-TIMEZONE:Europe/Paris
PRODID:-//Audencia//NONSGML v1.0//EN
CALSCALE:GREGORIAN
BEGIN:VEVENT
SUMMARY:Montpellier - Afterwork
DTSTART:20181011T190000
DTEND:20260425T205946
UID:328
DTSTAMP:20260425T205946
LOCATION:Le verre à soi  17, rue Saint-Guilhem 34000 Montpellier
DESCRIPTION:1ère rencontre entre Alumni à Montpellier\n\nAprès son premier e-mail pour découvrir les diplômés de sa région, Laurent Zanchetta (GE 13) vous donne rendez-vous au Verre à soi, ce jeudi 11 octobre à 19h. Une bonne occasion de vous retrouver et de développer votre réseau local dans l'ambiance conviviale de ce bar à vins qui propose 32 vins en libre service au verre et une centaine de références.\n\nN'hésitez pas à venir accompagné(e) et surtout à passer le message aux autres Alumni qui ne sont pas encore venus sur Together.\nIl ne vous reste plus qu'à vous inscrire et à faire passer le mot aux Alumni de votre entourage.\n\n \n
BEGIN:VALARM
ACTION:DISPLAY
TRIGGER:-PT60M
DESCRIPTION:Montpellier - Afterwork
END:VALARM
END:VEVENT
END:VCALENDAR