BEGIN:VCALENDAR
VERSION:2.0
X-WR-TIMEZONE:Europe/Paris
PRODID:-//Audencia//NONSGML v1.0//EN
CALSCALE:GREGORIAN
BEGIN:VEVENT
SUMMARY:Forum des entreprises Audencia 2018
DTSTART:20181011T090000
DTEND:20181012T180000
UID:327
DTSTAMP:20260425T205856
LOCATION:Audencia, 8 route de la Jonelière, Nantes
DESCRIPTION:2 journées d’échanges - 83 entreprises présentes\n\njeudi 11 & vendredi 12 octobre / 10h - 17h / gymnase / Atlantic Campus\n \n\nVous êtes diplômé d'Audencia et vous souhaitez venir au Forum des entreprises ?\n>> Inscription auprès de Christelle Godet : cgodet@audencia.com  \n\n\nListe des entreprises & toutes les infos sur la brochure du forum 
BEGIN:VALARM
ACTION:DISPLAY
TRIGGER:-PT60M
DESCRIPTION:Forum des entreprises Audencia 2018
END:VALARM
END:VEVENT
END:VCALENDAR