BEGIN:VCALENDAR
VERSION:2.0
X-WR-TIMEZONE:Europe/Paris
PRODID:-//Audencia//NONSGML v1.0//EN
CALSCALE:GREGORIAN
BEGIN:VEVENT
SUMMARY:Alumni gathering in Shenzhen, China
DTSTART:20181013T180000
DTEND:20181013T210000
UID:326
DTSTAMP:20260425T205842
LOCATION:HUA / Coka family Shenzhen
DESCRIPTION:Objective: memories of Audencia and networking\n\nThis is the first of many gatherings for the Shenzhen alumni community!\n\nJoin ambassador Qing Sun from 16:00 on Saturday 13th October for a Chinese tea ceremony.\n\nFor full information and details, connect with Qing and the alumni community in Shenzhen by joining the WeChat group:\n \n\n\n\n\n 
BEGIN:VALARM
ACTION:DISPLAY
TRIGGER:-PT60M
DESCRIPTION:Alumni gathering in Shenzhen, China
END:VALARM
END:VEVENT
END:VCALENDAR