BEGIN:VCALENDAR
VERSION:2.0
X-WR-TIMEZONE:Europe/Paris
PRODID:-//Audencia//NONSGML v1.0//EN
CALSCALE:GREGORIAN
BEGIN:VEVENT
SUMMARY:Afterwork in Casablanca, Morocco
DTSTART:20181004T193000
DTEND:20181004T220000
UID:325
DTSTAMP:20260425T210025
LOCATION:
DESCRIPTION:Afterwork de rentrée\n\nHello à tous !\n\nL'équipe Audencia Alumni Maroc reprend ses activités et vous invite à son premier Afterwork de la saison jeudi 4 octobre prochain au TIKI TAPAS!\n\nLe mode d'emploi demeure le même. Merci de nous confirmer votre présence, par mail ou par message. Le "Attending" sur Facebook ne vaut pas confirmation. Les +1 sont bien évidemment les bienvenus. \n\nEn attendant de vous voir nombreux jeudi prochain !\n\nL'équipe AAM
BEGIN:VALARM
ACTION:DISPLAY
TRIGGER:-PT60M
DESCRIPTION:Afterwork in Casablanca, Morocco
END:VALARM
END:VEVENT
END:VCALENDAR