BEGIN:VCALENDAR
VERSION:2.0
X-WR-TIMEZONE:Europe/Paris
PRODID:-//Audencia//NONSGML v1.0//EN
CALSCALE:GREGORIAN
BEGIN:VEVENT
SUMMARY:The Manhattan Frog's Cup in New York, USA
DTSTART:20180929T134500
DTEND:20180929T180000
UID:324
DTSTAMP:20260425T205841
LOCATION:North Cove Sailing Club,  300 Vesey St, New York NY 10282
DESCRIPTION:The 2018 Manhattan Frogs Cup is on Saturday 29 September!\n \n\nRace briefing: at 1:45PM on the docks of the North Cove Yacht Harbor in Battery Park City. Be sure to be at 1:30PM for the sailboats allocation.  \n\nAfter race party: Invite friends and family to join us at 4:30pm for drinks and oysters at the prize giving party at Beaubourg restaurant in Le District, next to the marina.\n \n\nParticipate \n\nRace: Five spots per boat, there will be in addition a North Cove Sailing club member representative on board that could act as a driver. The 2018 edition of the Frogs Cup is a fund raising event to support the French American Yacht Club charitable actions. The FAYC is a non profit 501c(3) organization. A letter for tax deductibility can be sent to participants for the amount paid net of the cost of the event.\n\n\n	individual tickets at $250 for non-FAYC members, or $225 for FAYC members\n	full boat allowing you to secure the composition of your team at $1,125 for non-members or $1,000 for members\n\n\nTo become a member, click here.\n\n\nAfter race party: Free oysters and rose wine for all racers on the wonderful terrasse of Beaubourg restaurant at Le District. A minimum donation of $25 is requested for the non racing adult guest attending the prize giving ceremony. Please reserve early as space is limited.\n \n\nSpectator boat: there is a possibility for us to charter a spectator boat to allow family and friends to see the race on the water for a cost of about $80 per person including the access to the cocktail party. We can do it only if we gather enough interest. Drop us an email at Contact@FrenchAmericanYC.org if interested.\n \n\n\nTo register and buy tickets!\n 
BEGIN:VALARM
ACTION:DISPLAY
TRIGGER:-PT60M
DESCRIPTION:The Manhattan Frog's Cup in New York, USA
END:VALARM
END:VEVENT
END:VCALENDAR