BEGIN:VCALENDAR
VERSION:2.0
X-WR-TIMEZONE:Europe/Paris
PRODID:-//Audencia//NONSGML v1.0//EN
CALSCALE:GREGORIAN
BEGIN:VEVENT
SUMMARY:AAGEF: Conversation with Ambassador Pierre Vimont in New York, USA
DTSTART:20181005T083000
DTEND:20181005T100000
UID:323
DTSTAMP:20260425T205851
LOCATION:Yale Club, Saybrook Room 50 Vanderbilt Ave, New York NY 10017
DESCRIPTION:One Year On - A New Initiative for Europe\n\nAn AAGEF* initiative\n\nJoin us at the Yale Club on October 5th (8.30am to 10.00am) for a conversation with Ambassador Pierre Vimont, Visiting Professor at Columbia University and former Executive Secretary-General of the European External Action Service, on:\n\nOne Year On - A New Initiative for Europe\nIn September 2017, French President Emmanuel Macron proposed in a speech at La Sorbonne an initiative meant to "rebuild a sovereign, united, and democratic Europe." One year later, how have France's European partners responded to this initiative? What has been achieved? And what hurdles still need to be overcome?\nPierre Vimont will analyse the vision for Europe and the concrete steps proposed by President Macron a year ago.  He will also discuss the larger context within the European Union and the developments, such as Brexit and the elections to European Parliament, to take place in the year to come.\n\n\n \n\n\nBuy tickets and register here!\n \n\n \n\n  \nWe look forward to seeing you there!\nThe AAGEF team\n\n \n\nAbout our speaker:\nPierre Vimont is a visiting professor at Columbia University and a senior fellow at Carnegie Europe.\nHe was the first executive secretary-general of the European External Action Service (EEAS), from 2010 to 2015. During his thirty-eight-year diplomatic career with the French foreign service, he served as ambassador to the United States from 2007 to 2010, ambassador to the European Union from 1999 to 2002, and chief of staff to three French foreign ministers. He holds the title, Ambassador of France, a dignity bestowed for life to only a few French career diplomats.\nVimont holds a degree in law from Pantheon-Sorbonne University, and is a graduate of the Paris Institute of Political Studies (Sciences Po) and the National School of Administration (ENA).\n\n*AAGEF is an association based in the USA for alumni of French Grandes Ecoles. Audencia is a member of AAGEF. Come along to events organised by the AAGEF team to connect with fellow Audencians but also alumni from other French Grandes Ecoles!*\n 
BEGIN:VALARM
ACTION:DISPLAY
TRIGGER:-PT60M
DESCRIPTION:AAGEF: Conversation with Ambassador Pierre Vimont in New York, USA
END:VALARM
END:VEVENT
END:VCALENDAR