BEGIN:VCALENDAR
VERSION:2.0
X-WR-TIMEZONE:Europe/Paris
PRODID:-//Audencia//NONSGML v1.0//EN
CALSCALE:GREGORIAN
BEGIN:VEVENT
SUMMARY:10 ans déjà  Anniversaire de promotion 2008 Audencia SciencesCom
DTSTART:20181006T190000
DTEND:20181007T000000
UID:322
DTSTAMP:20260425T205818
LOCATION:au 11 rue Pierre Fontaine 75009 « le Barbiche » ou 3 Rue Rodier 75009 « le cerf volant »
DESCRIPTION:Bonjour à toutes et à tous,\n\nVous souhaitez fêter les 10 ans de la Promo Audencia SciencesCom 2008 et c'est un excellent choix !\n \nRdv le Samedi 6 octobre de 19h\n\nau 11 rue Pierre Fontaine 75009 « le Barbiche »\nou 3 Rue Rodier 75009 « le cerf volant »\nen fonction du nombre de participants\n\n\nLa soirée prendra la forme d’un apéritif dinatoire incluant planches, punch, vins, bières...\n\nLes conjoints sont aussi les bienvenus !\n\nA très bientôt,  \n \n \n\nINSCRIVEZ-VOUS en haut à droite (date limite d'inscription le 01 octobre)\nConnectez-vous au préalable (en haut à droite) et créez votre profil si ce n'est pas déjà fait. Il vous suffira alors de cliquer sur "s'inscrire". Votre identifiant est votre e-mail connu d'Audencia SciencesCom Alumni.\n \nPour des raisons d'organisation, toute annulation après le  04 octobre 2018  ne pourra être remboursée.\n\n 
BEGIN:VALARM
ACTION:DISPLAY
TRIGGER:-PT60M
DESCRIPTION:10 ans déjà  Anniversaire de promotion 2008 Audencia SciencesCom
END:VALARM
END:VEVENT
END:VCALENDAR