BEGIN:VCALENDAR
VERSION:2.0
X-WR-TIMEZONE:Europe/Paris
PRODID:-//Audencia//NONSGML v1.0//EN
CALSCALE:GREGORIAN
BEGIN:VEVENT
SUMMARY:Afterwork in Shanghai, China
DTSTART:20180927T200000
DTEND:20180927T210000
UID:321
DTSTAMP:20260425T223651
LOCATION:Chez JoJo N°1 Yueyang Road Shanghai
DESCRIPTION:Chez JoJo in Shanghai!\nJoin Audencia Alumni and friends for an afterwork:\n \n\n	Thursday 27 September\n	From 20.00\n	Chez JoJo\n	N°1 Yueyang Road, Shanghai\n\n \n\nRSVP\nWeChat 15618386641!
BEGIN:VALARM
ACTION:DISPLAY
TRIGGER:-PT60M
DESCRIPTION:Afterwork in Shanghai, China
END:VALARM
END:VEVENT
END:VCALENDAR