BEGIN:VCALENDAR
VERSION:2.0
X-WR-TIMEZONE:Europe/Paris
PRODID:-//Audencia//NONSGML v1.0//EN
CALSCALE:GREGORIAN
BEGIN:VEVENT
SUMMARY:Nantes, 4ème journée « La Richesse des différences »
DTSTART:20180924T150000
DTEND:20180924T190000
UID:318
DTSTAMP:20260425T210207
LOCATION:Salons de la Rosière  35 rue de la Rosière d’Artois 44000 Nantes
DESCRIPTION:Lors de la 4ème journée « La Richesse des différences » sur le thème de l’accompagnement des derniers instants de la vie, le Centre ADHAP Services Nantes Est, invite Anna McPartlin, romancière irlandaise, auteur du livre « Les derniers jours de Rabbit Hayes ».\n \nLundi 24 septembre de 15h à 19h\n \n\n	15h00 - Accueil des participants\n	15h30 - Intervention d’Anna McPartlin\n	16h30 - Table ronde et échanges avec le public\n	18h00 - Séance de dédicaces et cocktail\n\n \n\nL’accès à cette conférence est gratuit, mais l'inscription est obligatoire, soit par mail soit en suivant ce lien.\n \n\nLa Rosière - 35 rue de la Rosière d’Artois - 44000 Nantes - Rez de Chaussée - Salons Dame et Roi de Coeur\nTram Chantier naval 7mn à pied / Parking public Graslin 5mn à pied.\n \n \nDiplômée de l’Ecole de Commerce de Nantes en 1986, Marcelle LE BOT s’est orientée vers les métiers de la finance avant d’obtenir son diplôme d’expertise comptable. Pendant 10 ans elle a travaillé en Cabinet d’Audit et d’Expertise comptable à Paris et à Cayenne, puis revient à Nantes, en 1996, comme Directeur Adjoint de Respironics France (filiale du groupe américain Respironics Inc, leader mondial de l’assistance respiratoire à domicile).\nSuite au rachat de Respironics par Philips Healthcare, Marcelle quitte le groupe en 2010 et décide de suivre le cursus MBA d’Audencia en 03/2011.\nA la fin du cursus en 09/2012, elle rachète l’entreprise LA NANTAISE D’AIDES A DOMICILE (enseigne ADHAP) spécialisée dans l’accompagnement à domicile des personnes fragilisées (âgées ou en situation de handicap). Soucieuse de valoriser le difficile métier d’Auxiliaire de vie, Marcelle organise régulièrement une journée d’échange sur un thème différent en présence d’un invité de marque ; cette année ce sera Anna McPartlin qui parlera avec douceur et justesse des derniers instants de la vie et du rôle essentiel des accompagnants.
BEGIN:VALARM
ACTION:DISPLAY
TRIGGER:-PT60M
DESCRIPTION:Nantes, 4ème journée « La Richesse des différences »
END:VALARM
END:VEVENT
END:VCALENDAR