BEGIN:VCALENDAR
VERSION:2.0
X-WR-TIMEZONE:Europe/Paris
PRODID:-//Audencia//NONSGML v1.0//EN
CALSCALE:GREGORIAN
BEGIN:VEVENT
SUMMARY:OKTOBERFEST avec Uwe Supper
DTSTART:20181010T190000
DTEND:20181010T230000
UID:317
DTSTAMP:20260425T210010
LOCATION:BERLIN 1989 95, boulevard Gabriel Lauriol  44300, Nantes
DESCRIPTION: \n\nFETE DE LA BIERE\n\n\n \n\nChers Alumni,\n\nVenez déguster de la bière avec des planches apéritives à l'occasion de l'Oktoberfest, la fête de la bière !\nUwe Supper se joindra à nous et nous partagera son expérience de cette tradition allemande.\n\nFORMULE :\n\n  - bières blondes, brunes et ambrées\n  - planches mixtes : fromages allemands + 4 currywurst + 10 croquettes d’Appenzeller + 4 grands bretzels chauds + frites fraîches\n\n\nAttention, les places sont limitées en raison de l'espace du lieu.\nEn cas de désistement de dernière minute, merci de me prévenir au 07 83 31 08 02.\n\nSandrine Haudebert\n\n \n \n\n\n \nPour des raisons d'organisation, toute annulation après le 30/09/18 ne pourra être remboursée.\n\n\nUn peu d'Histoire...\n\nAvant la création de l'Oktoberfest, les fêtes de la bière étaient déjà courantes en Bavière et dans le reste du monde germanique. En effet, elles permettaient de déstocker la bière brassée en mars (dite Märzen), avant le commencement de la nouvelle saison de brassage.\n\nLe 1er Oktoberfest eut lieu le 17 octobre 1810. Le 12 octobre de cette même année, pour que le public honore leur mariage, le futur roi Louis Ier de Bavière et la princesse Thérèse de Saxe-Hildburghausen organisent une grande course hippique cinq jours après leur union, dans une prairie sous les murs de Munich. Celle-ci devint la « Theresienwiese », du prénom de la princesse. La fête ne changea jamais d'emplacement depuis. Le roi Maximilien Ier en fait alors une véritable fête nationale et un moyen de renforcer le sentiment d'unité de la Bavière. Alors que la population munichoise était de 40 000 habitant, l’événement réunit 50 000 spectateurs : la course fut un grand succès et la fête fut reconduite.\n[source : wikipedia]
BEGIN:VALARM
ACTION:DISPLAY
TRIGGER:-PT60M
DESCRIPTION:OKTOBERFEST avec Uwe Supper
END:VALARM
END:VEVENT
END:VCALENDAR