BEGIN:VCALENDAR
VERSION:2.0
X-WR-TIMEZONE:Europe/Paris
PRODID:-//Audencia//NONSGML v1.0//EN
CALSCALE:GREGORIAN
BEGIN:VEVENT
SUMMARY:Meet & Learn à Genève, Suisse
DTSTART:20181010T183000
DTEND:20181010T210000
UID:316
DTSTAMP:20260425T210315
LOCATION:Spaces Quai de l'Ile Quai de l'Ile 13 1204 Genève
DESCRIPTION:\n\n\n\nParticipez à la conférence animée par Michel Guye-Bergeret (Head of Talent Attraction and HR Marketing, CICR Genève) et les experts de Business & Décision Genève organisée par GEM Alumni Genève en partenariat avec Audencia. \n\nSi vous pensez que l’intelligence artificielle est un buzzword, pensez à nouveau ! Elle est déjà parmi nous, chez vous, dans votre maison. Elle s’infiltre dans nos vies tous les jours, toutes les minutes et toutes les secondes sans que vous vous en aperceviez. Sommes-nous conscients de ce qu’il se trame ? Sommes-nous prêts pour cette 4ème révolution industrielle ? \n\nVenez découvrir comment des entreprises utilisent déjà l’IA par des mises en œuvre très concrètes. Pour, non seulement améliorer leur performance ou les services qu’elles offrent mais aussi pour améliorer notre qualité de vie au travail.\n \n \nLa conférence sera suivi d’un cocktail convivial pour poursuivre le débat et faire connaissance.  \n \n\nINSCRIPTION\n\nBénéficiez du code de réduction GEM-AUDENCIA :  M-L2018\n\nUne fois sur la page d’inscription de la conférence Meet&Learn, les diplômés Audencia auront juste à cliquer sur « inscrivez-vous » et ensuite sur « créer un compte » \n \n\nIl vous sera demandé une participation de 35CHF / 31€\n\n 
BEGIN:VALARM
ACTION:DISPLAY
TRIGGER:-PT60M
DESCRIPTION:Meet & Learn à Genève, Suisse
END:VALARM
END:VEVENT
END:VCALENDAR