BEGIN:VCALENDAR
VERSION:2.0
X-WR-TIMEZONE:Europe/Paris
PRODID:-//Audencia//NONSGML v1.0//EN
CALSCALE:GREGORIAN
BEGIN:VEVENT
SUMMARY:Déjeuner à Madrid, Espagne
DTSTART:20180921T140000
DTEND:20180921T160000
UID:315
DTSTAMP:20260425T210050
LOCATION:Bistrot Andalou La Encarna  C/Recaredo, 2, 28002 Madrid
DESCRIPTION:Déjeuner Alumni RAGEFE*\n\nÀ l’occasion de la rentrée, Erwan Basnier et moi-même sommes en train d’organiser le prochain RDV déjeuner Alumni Grandes Écoles :\n\n	le vendredi 21 septembre\n	à 14h00  \n	au restaurant Bistrot Andalou La Encarna (C/Recaredo, 2, 28002 Madrid)\n\n\nIl s’agira d’un déjeuner en terrasse (très agréable) avec un menu unique à prix fermé (36,00 € TTC) comprenant entrées, plat, dessert et boissons (eau, vin, bière et café).\n\nNous avons réservé 30 couverts pour nos alumni.\n \nMerci de bien vouloir me confirmer votre présence (fblin@bovemontero.com) et de réaliser le paiement à l’avance auprès de moi avant le vendredi 14 septembre à 14h00.\n\nLes inscriptions se feront selon l’ordre d’arrivée et seront closes au plus tard le lundi 17/9/18 à 18h00.\n \nIMPORTANT:\n\nPolitique d’annulation et de remboursement: Toute annulation qui n’aura pas été faite au minimum 72 heures avant le déjeuner (c.a.d. avant le mardi 18/9/18 à 14h00) ne sera pas prise en compte et ne pourra donner lieu à aucun remboursement. L’inscription au RDV déjeuner suppose l’acceptation implicite de ces conditions fixées par les organisateurs.\n \nA très bientôt et en espérant vous voir nombreux le 21 à La Encarna!\n \nErwan & François\n\n \n*RAGEFE: Rassemblement des Alumni des Grandes Ecoles Françaises en Espagne
BEGIN:VALARM
ACTION:DISPLAY
TRIGGER:-PT60M
DESCRIPTION:Déjeuner à Madrid, Espagne
END:VALARM
END:VEVENT
END:VCALENDAR