BEGIN:VCALENDAR
VERSION:2.0
X-WR-TIMEZONE:Europe/Paris
PRODID:-//Audencia//NONSGML v1.0//EN
CALSCALE:GREGORIAN
BEGIN:VEVENT
SUMMARY:Afterwork in Ho Chi Minh City, Vietnam
DTSTART:20181004T183000
DTEND:20181004T210000
UID:314
DTSTAMP:20260425T205854
LOCATION:Belgo Belgian Craft Beer Brewery 159A Nguyễn Văn Thủ, Đa Kao, Quận 1, Ho Chi Minh City Vietnam
DESCRIPTION:Hi Audencia friends,\n\nLong time no see and no drinks. This is of course unacceptable ;-)\nJoin us with Lan, Quentin and Florence from 18.30 on 4th October at:\n \n\n	the Belgo Belgian Craft Beer Brewery\n	159A Nguyễn Văn Thủ\n	Đa Kao, Quận\n	Ho Chi Minh City\n\n\nWe are also suggesting a calendar of get togethers along the year.\nWe would be glad to hear if you gave any suggestions in terms of format, have someone make a presentation about his work, brainstorm on a specific topic etc...all ideas welcome and please do join and spread the word.\n\nCheers,\n\nLaurent Tam (093 751 00 95)\n\n \nTo register, follow this link!
BEGIN:VALARM
ACTION:DISPLAY
TRIGGER:-PT60M
DESCRIPTION:Afterwork in Ho Chi Minh City, Vietnam
END:VALARM
END:VEVENT
END:VCALENDAR