BEGIN:VCALENDAR
VERSION:2.0
X-WR-TIMEZONE:Europe/Paris
PRODID:-//Audencia//NONSGML v1.0//EN
CALSCALE:GREGORIAN
BEGIN:VEVENT
SUMMARY:Coaching Carrière Nouvel Elan - Etape 1 : 18-19 octobre 2018
DTSTART:20181018T090000
DTEND:20181019T180000
UID:312
DTSTAMP:20260425T210010
LOCATION:95 RUE FALGUIERE 75015 PARIS
DESCRIPTION:Et si vous donniez un nouvel élan à votre carrière ?\nVous avez envie de changement et besoin d'être accompagné pour amorcer ce nouveau challenge ?\nLes consultantes Carrière sont là pour vous guider à définir votre projet :\n\n	Apprendre à bien vous connaître pour faire les bons choix, en identifiant vos motivations, vos préférences et vos forces distinctives "ce que je suis"\n	Définir vos possibilités d’évolution "ce que je veux être"\n	Vous positionner sur 3 cibles professionnelles pour développer des contacts réseau et mettre au point un plan d’action "ce que je vais faire"\n\n\nAtelier interactif en groupe de 6 à 12 personnes \n\n\nLes diplômés en parlent !\n\n« Il n’y a pas d’âge pour poser ses valises pendant 2 jours pour avoir la chance de réfléchir sur soi, son parcours professionnel, ses motivations, surtout en bénéficiant de l’émulation du collectif de groupe si enrichissant et primordial. Je repars avec un premier plan d’action opérationnel et une attitude positive et optimiste. » EURO MBA 06\n\n«  Le travail en groupe empreint de bienveillance et à l'écoute des sensibilités de chacun diffuse de l'énergie et décuple la motivation. » GE 96\n \nNota : Ce parcours s'adresse aux diplômés expérimentés ayant une ou plusieurs expériences professionnelles.\nPour les diplômés de moins de 3 ans, nous vous réservons un parcours jeunes diplômés. Contactez-nous pour plus d'information : audenciaalumni@audencia.com\n 
BEGIN:VALARM
ACTION:DISPLAY
TRIGGER:-PT60M
DESCRIPTION:Coaching Carrière Nouvel Elan - Etape 1 : 18-19 octobre 2018
END:VALARM
END:VEVENT
END:VCALENDAR