BEGIN:VCALENDAR
VERSION:2.0
X-WR-TIMEZONE:Europe/Paris
PRODID:-//Audencia//NONSGML v1.0//EN
CALSCALE:GREGORIAN
BEGIN:VEVENT
SUMMARY:Afterwork in Hong Kong
DTSTART:20180920T183000
DTEND:20180920T210000
UID:310
DTSTAMP:20260425T205853
LOCATION:The Artist House Shop G4, Fashion Walk, 1/F Kingston Street, Causeway Bay, Hong Kong
DESCRIPTION:La Rentree des Grandes Ecoles\n\nTo mark the new back to school season, come and join alumni, students and friends from French Grandes Ecoles (Audencia, EDHEC, ESCP, ESSEC, HEC, emlyon, SKEMA) for a networking cocktail event.\n\n \nDate: Thursday 20th September\nTime: 18:30-21:00\nLocation: The Artist House\nAddress: Shop G4, Fashion Walk, 1/F Kingston Street, Causeway Bay, Hong Kong\n\n\nIt will be the perfect occasion to catch up with old frieds and make new ones.\n\n\nIf you are interested in attending, please contact Benoit, your Hong Kong ambassador via this link!
BEGIN:VALARM
ACTION:DISPLAY
TRIGGER:-PT60M
DESCRIPTION:Afterwork in Hong Kong
END:VALARM
END:VEVENT
END:VCALENDAR