BEGIN:VCALENDAR
VERSION:2.0
X-WR-TIMEZONE:Europe/Paris
PRODID:-//Audencia//NONSGML v1.0//EN
CALSCALE:GREGORIAN
BEGIN:VEVENT
SUMMARY:Conférence sur l'expérience client
DTSTART:20181018T190000
DTEND:20181018T223000
UID:309
DTSTAMP:20260425T205908
LOCATION:Espace St Antoine 196 rue du Faubourg St Antoine
DESCRIPTION:L’expérience client\n \n \nComment appréhender l’expérience client comme pilier fondateur de la marque ?\n\nD’après une étude Gartner, 81 % des entreprises prévoient que la concurrence se jouera demain principalement sur le terrain de l’expérience client, devant des facteurs plus traditionnels tels que le prix ou la qualité du produit.\nCette optimisation d’un parcours sans friction et la transformation de vos clients en ambassadeurs implique des règles nouvelles à l’ère du tout digital : omnicanalité dans le retail, communication d’influence, phygital, cobotique et automatisation du service client sans dégrader le facteur humain, mesure de la satisfaction…\n\nComment définir précisément et améliorer cette expérience client alors que les réseaux sociaux lui confèrent un impact d’autant plus important sur la valeur de marque ? \nS’agit-il uniquement d’enjeux liés aux nouvelles technologies ?\nQuels sont les impacts sur l’organisation des entreprises? \n\nAutant d’enjeux, d’opportunités et de bonnes pratiques que le Club Marketing/Digital vous propose de partager lors d’un débat animé par Benoît Regent (GE 93), Directeur du département Change Prospective chez Dentsu Consulting France.\n\nEn charge de programmes d’innovations retail pour la région EMEA chez Estée Lauder Companies, Sylvain Quilleret (GE 05) nous fera un retour d’expérience sur les implications opérationnelles d’une stratégie orientée client pour la mise en place de nouvelles initiatives technologiques et métiers.\n \nMerci de vous inscrire en haut à droite.\n\nLieu et accès : Espace St Antoine - 196 rue du Faubourg St Antoine Paris 12\nMétro Faidherbe Chaligny\n\nAu plaisir de vous retrouver le 18 octobre prochain !
BEGIN:VALARM
ACTION:DISPLAY
TRIGGER:-PT60M
DESCRIPTION:Conférence sur l'expérience client
END:VALARM
END:VEVENT
END:VCALENDAR