BEGIN:VCALENDAR
VERSION:2.0
X-WR-TIMEZONE:Europe/Paris
PRODID:-//Audencia//NONSGML v1.0//EN
CALSCALE:GREGORIAN
BEGIN:VEVENT
SUMMARY:Atelier d'intelligence collective (Masterminds)
DTSTART:20180926T190000
DTEND:20180926T223000
UID:308
DTSTAMP:20260425T205844
LOCATION:TWO CAFE - 11 RUE NOTRE DAME DE NAZARETH - 75003 PARIS
DESCRIPTION:Boostez votre Performance Marketing grâce à un groupe de pairs, un groupe Mastermind ! \n \nLe marketing se réinvente en permanence. Les canaux et les outils changent sans cesse.\n \nComment avancer dans votre stratégie marketing plus rapidement, plus efficacement et plus durablement ?\n \nDécouvrez un groupe de pairs, un groupe Mastermind, et expérimentez la puissance de l’intelligence collective comme vecteur de performance.\n \nUn groupe Mastermind est un programme innovant qui réunit des participants d’horizons et d’industries différents avec le même objectif : aller plus vite et plus loin pour exceller dans son métier.\nLes participants bénéficient d’une méthodologie éprouvée qui prévoit un travail collaboratif en profondeur sur leurs enjeux professionnels dans une perspective de croissance de longue durée. On apprend de ses pairs, de leurs expériences et échecs, on échange des best practices et on travaille sur les cas concrets de chacun. Et par conséquent, on obtient :\n \n\n	Des solutions concrètes et sur mesure\n	Des prises de décisions plus rapides et plus efficaces\n	Des performances progressives et durables\n\n \n\nLe concept vous intéresse et vous voulez en savoir plus ? Inscrivez-vous à l’atelier de découverte du 26 septembre prochain :\n \n\nAu Two Eat Café, 11 rue Notre-Dame de Nazareth, 75003 Paris\n \n\nDéroulé de l’atelier :\n19h – 19h30 : Arrivée des participants, accompagné d’un verre de bienvenue\n19h30 – 21h : Atelier Mastermind animé par Beate Boodoo\n21h – 22h : Cocktail dînatoire / Networking\n\n\n \n\nL’atelier et le groupe Mastermind seront animés par Beate Boodoo, fondatrice de CG Circles, société de conseil et de formation spécialisée dans le déploiement et l’animation de l’intelligence collective.\n\nBénéficiant d’une double formation d’avocate d’affaires et d’un Exécutive MBA à HEC Paris, Beate intervient aujourd’hui comme consultante en stratégie et facilitatrice des groupes d’intelligence collective de dirigeants et d’entrepreneurs.\n\n\n\n \n\nInscrivez-vous en haut à droite \n\nAccès : Métro Temple ou République
BEGIN:VALARM
ACTION:DISPLAY
TRIGGER:-PT60M
DESCRIPTION:Atelier d'intelligence collective (Masterminds)
END:VALARM
END:VEVENT
END:VCALENDAR