BEGIN:VCALENDAR
VERSION:2.0
X-WR-TIMEZONE:Europe/Paris
PRODID:-//Audencia//NONSGML v1.0//EN
CALSCALE:GREGORIAN
BEGIN:VEVENT
SUMMARY:Afterwork in Singapore
DTSTART:20180807T190000
DTEND:20180807T220000
UID:307
DTSTAMP:20260425T205720
LOCATION:Wine Connection bar  25 Church Street, #01-01 Capital Square 3 Singapore 049482
DESCRIPTION:Dear Audencia Alumni, \n\n \n\nThe Singapore Chapter is inviting you to a new event:\n\n\n	When: Tuesday August 7th\n	Time: 7.00pm \n	Where: Wine Connection bar \n	Address: 25 Church Street, #01-01 Capital Square 3, Singapore 049482.\n\n \n\nThis is a great opportunity to network, reconnect and also share about good memories at Audencia. \n\n \n\nFeel free to share this invitation with our other Audencia Alumni fellows in Singapore and we hope to see a lot of you for this event. Please confirm your participation and don’t forget to join our new Facebook page "Audencia Alumni In Singapore" to receive the invitations for the next events.\n \n\nREGISTER HERE >>\n\n\nSee you soon!\n\nYour Audencia Chapter for Singapore\n\nJosselin, Aurelie & Charles-Antoine\n\n \n\n
BEGIN:VALARM
ACTION:DISPLAY
TRIGGER:-PT60M
DESCRIPTION:Afterwork in Singapore
END:VALARM
END:VEVENT
END:VCALENDAR