BEGIN:VCALENDAR
VERSION:2.0
X-WR-TIMEZONE:Europe/Paris
PRODID:-//Audencia//NONSGML v1.0//EN
CALSCALE:GREGORIAN
BEGIN:VEVENT
SUMMARY:Afterwork in Mexico City, Mexico
DTSTART:20180904T200000
DTEND:20180904T213000
UID:306
DTSTAMP:20260425T205821
LOCATION:Le Meridien Hotel bar Paseo de la Reforma 69 Mexico City
DESCRIPTION:On the occasion of Audencian Michelle Cristy's visit to Mexico, come and join her for afterwork refreshments and catch up with the latest news from your favourite French business school!\n\nWhere: Le Meridien Hotel bar\nAddress: Paseo de la Reforma 69, Mexico City\n\nWhen: Tuesday, September 4\nTime: from 8:00pm\n \nPlease follow this link to register!
BEGIN:VALARM
ACTION:DISPLAY
TRIGGER:-PT60M
DESCRIPTION:Afterwork in Mexico City, Mexico
END:VALARM
END:VEVENT
END:VCALENDAR