BEGIN:VCALENDAR
VERSION:2.0
X-WR-TIMEZONE:Europe/Paris
PRODID:-//Audencia//NONSGML v1.0//EN
CALSCALE:GREGORIAN
BEGIN:VEVENT
SUMMARY:Participez à la Parisienne, course 100% féminine
DTSTART:20180909T090000
DTEND:20180909T180000
UID:304
DTSTAMP:20260425T205909
LOCATION:Champs de Mars, Paris
DESCRIPTION:Joggeuse en herbe ou sportive accomplie ? Peu importe, la distance de la course est accessible. \nDe la Tour Eiffel au Champs de Mars, venez rejoindre l’équipe Audencia Alumni pour courir « La Parisienne » sur une boucle de 6,7km le dimanche 9 septembre, entre diplômées d’Audencia.  \nVenez relever un défi, vous amuser, vous dépenser ou tout simplement passer un bon moment. Nous avons 20 dossards + t-shirts à offrir aux Audenciennes les plus motivées.  \n\nEn résumé :  \n- Vous êtes diplômée Audencia \n- Vous avez envie de bouger et d’avoir du fun\n \nRejoignez Flavie Lorre et toute la Team Audencia Alumni engagée sur La Parisienne en envoyant un mail à laparisienne@aalumni.fr avant le 31 juillet. \nA très bientôt, \n\nFlavie Lorre (GE 98) \nPrésidente Audencia Alumni\n 
BEGIN:VALARM
ACTION:DISPLAY
TRIGGER:-PT60M
DESCRIPTION:Participez à la Parisienne, course 100% féminine
END:VALARM
END:VEVENT
END:VCALENDAR