BEGIN:VCALENDAR
VERSION:2.0
X-WR-TIMEZONE:Europe/Paris
PRODID:-//Audencia//NONSGML v1.0//EN
CALSCALE:GREGORIAN
BEGIN:VEVENT
SUMMARY:Alumni gathering in Chicago, USA
DTSTART:20180812T180000
DTEND:20180812T200000
UID:302
DTSTAMP:20260425T205817
LOCATION:Swissotel 323 E Upper Wacker Dr, Chicago, IL 60601, USA
DESCRIPTION:On the occasion of his visit to Chicago, Nicolas Arnaud, Director of the Audencia Grande Ecole programme, would be delighted to meet up with Audencia alumni for an informal drink. Come and join him and fellow alumni!\n \n\n	Date:  Sunday 12th August \n	Time: from 6pm\n	Location:  Amuse dining/cocktail area of the Swissotel, \n	Address: 323 E Upper Wacker Dr, Chicago, IL 60601\n\n\nThis will be a great opportunity to catch up with news from Audencia!\n 
BEGIN:VALARM
ACTION:DISPLAY
TRIGGER:-PT60M
DESCRIPTION:Alumni gathering in Chicago, USA
END:VALARM
END:VEVENT
END:VCALENDAR