BEGIN:VCALENDAR
VERSION:2.0
X-WR-TIMEZONE:Europe/Paris
PRODID:-//Audencia//NONSGML v1.0//EN
CALSCALE:GREGORIAN
BEGIN:VEVENT
SUMMARY:Afterwork in Lausanne, Switzerland
DTSTART:20180821T183000
DTEND:20180821T220000
UID:301
DTSTAMP:20260425T205854
LOCATION:Le Lacustre Quai Jean Pascal Delamuraz 1 Lausanne
DESCRIPTION:Bonjour à tous!\n\nDéjà en vacances ou sur le point d'y partir?\n\nNous préparons déjà pour vous la rentrée et vous proposons un afterwork lausannois:\n \nle 21 août\ndès 18.30\nau Lacustre\nQuai Jean Pascal Delamuraz 1 - Lausanne\n\nC'est au bord du lac et tout proche du metro et donc de la gare, et juste au dessus du débarcadère pour ceux qui viennent en bateau!\n\nAu plaisir de vous y voir nombreux!\n\nCarole Levanti\nJean Romain Falconnet\nNicolas Relin
BEGIN:VALARM
ACTION:DISPLAY
TRIGGER:-PT60M
DESCRIPTION:Afterwork in Lausanne, Switzerland
END:VALARM
END:VEVENT
END:VCALENDAR