BEGIN:VCALENDAR
VERSION:2.0
X-WR-TIMEZONE:Europe/Paris
PRODID:-//Audencia//NONSGML v1.0//EN
CALSCALE:GREGORIAN
BEGIN:VEVENT
SUMMARY:Watch the World Cup final in Amsterdam, Netherlands
DTSTART:20180715T163000
DTEND:20180715T190000
UID:300
DTSTAMP:20260425T210003
LOCATION:Feestcafe Woody's Thorbeckeplein 20 1017 CS Amsterdam
DESCRIPTION:French football is reliving the ambiance of 1998!\n\n\nCome and join ambassador Matthieu Vonthron, fellow alumni and friends to watch THE match:\n \nDate: Sunday 15 July\nTime: 16:30 to 19:00\nVenue: Feestcafe Woody's\nAddress: Thorbeckeplein 20, 1017 CS Amsterdam\n\n\nAnd, if you can't make it, read the latest edition of the mag, Audencia's alumni magazine. You'll find some VERY topical football-themed articles... 
BEGIN:VALARM
ACTION:DISPLAY
TRIGGER:-PT60M
DESCRIPTION:Watch the World Cup final in Amsterdam, Netherlands
END:VALARM
END:VEVENT
END:VCALENDAR