BEGIN:VCALENDAR
VERSION:2.0
X-WR-TIMEZONE:Europe/Paris
PRODID:-//Audencia//NONSGML v1.0//EN
CALSCALE:GREGORIAN
BEGIN:VEVENT
SUMMARY:Webinar: People with purpose
DTSTART:20170213T150000
DTEND:20170213T160000
UID:3
DTSTAMP:20260425T223737
LOCATION:Online
DESCRIPTION:The Association of MBAs is pleased to announce a new FREE webinar for AMBA Members.\n\nThis webinar is about how great leaders can make purpose the beating heart of their organisation and use it to power performance.\n\nLeaders who communicate a defined mission, alongside clear and genuine values, allow their employees to feel a sense of purpose in their roles and embody their company's vision. This inspires engagement, loyalty and higher performance.\n\nPeople with Purpose brings together a wide range of compelling research into how having a clearly defined purpose as part of business strategy is a vital element in business success, longevity and inspired teams.\n\nTo register for this free webinar please log on to the AMBA Community >>\n\nThis webinar is accessible to students or alumni of an AMBA-accredited programme at Audencia, i.e., Executive MBA, MBA in Responsible Management or Master in Management (Grande Ecole Programme), but registration is required. Registering as an alum of an AMBA-accredited programme takes only a few minutes. If you have any questions about your eligibility, or how to access the Community, please contact membership@mbaworld.com\n\nGo to www.mbaworld.com/communitysignup \n\n\n	complete your personal details\n	select ‘Graduate’ from the ‘I am a’ drop down\n	select your Business School\n	enter the following access key: G25912\n
BEGIN:VALARM
ACTION:DISPLAY
TRIGGER:-PT60M
DESCRIPTION:Webinar: People with purpose
END:VALARM
END:VEVENT
END:VCALENDAR