BEGIN:VCALENDAR
VERSION:2.0
X-WR-TIMEZONE:Europe/Paris
PRODID:-//Audencia//NONSGML v1.0//EN
CALSCALE:GREGORIAN
BEGIN:VEVENT
SUMMARY:Afterwork in Shanghai, China
DTSTART:20180718T200000
DTEND:20180718T223000
UID:299
DTSTAMP:20260425T205735
LOCATION:Bar Centrale Yanping Lu no.135-101 Shanghai
DESCRIPTION:Come and join ambassador Eugenia Lao, fellow alumni and friends for an afterwork:\n\nDate: Wednesday July 18th\nTime: starting at 20:00\nVenue: Bar Centrale, Yanping Lu no.135-101, Shanghai\n\n 
BEGIN:VALARM
ACTION:DISPLAY
TRIGGER:-PT60M
DESCRIPTION:Afterwork in Shanghai, China
END:VALARM
END:VEVENT
END:VCALENDAR