BEGIN:VCALENDAR
VERSION:2.0
X-WR-TIMEZONE:Europe/Paris
PRODID:-//Audencia//NONSGML v1.0//EN
CALSCALE:GREGORIAN
BEGIN:VEVENT
SUMMARY:Test the EuroMBA programme - become a student for a day
DTSTART:20180905T090000
DTEND:20180905T180000
UID:298
DTSTAMP:20260425T210022
LOCATION:Aix-Marseille Université
DESCRIPTION:If you are curious about the EuroMBA programme, come and join a day of classes during the residential week at Aix-Marseille University and find out more.\n\nBecome a student for a day!\n\n	Class 1: Leveraging your entrepreneurial potential\n	Class 2: Lean Start-up\n	Class 3: negotiating the funding (part I)\n\n\nWhen: Wednesday 5 September 2018 (during the next residential week)\nWhere: Aix-Marseille, South of France\n\nUp to 60 students, international managers and professionals, will meet and enhance their knowledge around the residential week’s theme of ENTREPRENEURSHIP.\n\nParticipate in a typical day of the residential week and get to know the EuroMBA students and staff. Attend part of the programme and learn all about our online learning environment.\n\nRegistration requests via the Communications Director glauke.pannevis@euromba.org\n\n\nThe EuroMBA is consortium of six international business schools and universities:\n \n
BEGIN:VALARM
ACTION:DISPLAY
TRIGGER:-PT60M
DESCRIPTION:Test the EuroMBA programme - become a student for a day
END:VALARM
END:VEVENT
END:VCALENDAR