BEGIN:VCALENDAR
VERSION:2.0
X-WR-TIMEZONE:Europe/Paris
PRODID:-//Audencia//NONSGML v1.0//EN
CALSCALE:GREGORIAN
BEGIN:VEVENT
SUMMARY:GE 1998... les 20 ans !
DTSTART:20181020T200000
DTEND:20260425T210115
UID:297
DTSTAMP:20260425T210115
LOCATION:Villa Frochot 2, rue Frochot - 75009 Paris
DESCRIPTION: \n\nEvénement exceptionnel à ne surtout pas manquer !\n\n\n\n\nDéroulé de cette soirée unique à la Villa Frochot, dans un cadre :\n   - 20h : arrivée des Alumni\n   - 20h30 : cocktail\n   - 23h : soirée avec DJ\n   - 4h : fin de la soirée\n\nPour vos 20 ans de promo, nous vous promettons une soirée unique dans un lieu surprenant…  un ancien cabaret au passé sulfureux avec l’ambiance d’un Paris oublié. Vous découvrirez aussi les incroyables vitraux Hokusai reconnus au patrimoine culturel français.\n \nRejoignez également le groupe Facebook Audencia Promo 1998\n\n\nPour des raisons d'organisation, toute inscription après le 20/09/18 sera ferme et définitive.\n\n\n\n 
BEGIN:VALARM
ACTION:DISPLAY
TRIGGER:-PT60M
DESCRIPTION:GE 1998... les 20 ans !
END:VALARM
END:VEVENT
END:VCALENDAR