BEGIN:VCALENDAR
VERSION:2.0
X-WR-TIMEZONE:Europe/Paris
PRODID:-//Audencia//NONSGML v1.0//EN
CALSCALE:GREGORIAN
BEGIN:VEVENT
SUMMARY:Anniversaire de promotion Audencia SciencesCom 1988
DTSTART:20181013T150000
DTEND:20181014T150000
UID:295
DTSTAMP:20260425T205849
LOCATION:Restaurant J'GO Paris Drouot 4, rue Drouot 75009 Paris
DESCRIPTION:Cher(e)s diplômé(e)s, \n\nIsabelle de Crécy, Laurence Gauthier, Hervé Chaygneaud-Dupuy, Christian Daviot et l'équipe Audencia SciencesCom sont heureux de vous convier le samedi 13 octobre 2018 aux 30 ans de votre promotion qui auront lieu à Paris. \nL'occasion de croiser non pas vos réalisations ou vos souvenirs mais vos rêves d’avenir !\n\nTout au long de la journée vous aurez accès à Restaurant J'GO Paris Drouot où il vous sera proposé de vous retrouver dès 15h. Des activites, un apéritif et un dîner vous seront servis en ce même lieu. \nPour clore votre rencontre, nous vous proposons en supplément de visiter ensemble le dimanche matin l’Atelier des Lumières, ancienne fonderie du Chemin vert qui accueille aujourd’hui une exposition autour de Gustave Klimt. Si vous le souhaitez, réserver votre place à 11h par ici. Attention les places partent très vite !!!!\nNous pourrons prendre ensemble un brunch à l’issue de la visite pour ceux qui le souhaitent.\n \nUne participation qui comprend la location de l'espace pour le week-end et le diner du samedi soir vous est demandée. Elle s’élève à 60€ par personne.\nPour participer à ce beau week-end, cliquer sur s'inscrire en haut à droite de votre écran.\n\nContact inscription : Thomas Célérier tcelerier@audencia.com 02 40 44 90 13\n 
BEGIN:VALARM
ACTION:DISPLAY
TRIGGER:-PT60M
DESCRIPTION:Anniversaire de promotion Audencia SciencesCom 1988
END:VALARM
END:VEVENT
END:VCALENDAR