BEGIN:VCALENDAR
VERSION:2.0
X-WR-TIMEZONE:Europe/Paris
PRODID:-//Audencia//NONSGML v1.0//EN
CALSCALE:GREGORIAN
BEGIN:VEVENT
SUMMARY:AAGEF wine pairing in New York, USA
DTSTART:20180710T183000
DTEND:20180710T210000
UID:293
DTSTAMP:20260425T223812
LOCATION:Legacy Records 517 W 38th St, New York,  NY 10018
DESCRIPTION:Chateau D'Esclans rosé wine pairing dinner\n\n\nAAGEF is delighted to annouce their latest wine pairing event which will take place on July 10 at the Legacy Record restaurant.\nThe dinner (which will begin with a cocktail, followed by a three course menu) will feature rosé wine from the Chateau D'Esclans:\n\n\n	Chateau d'Esclans 'Whispering Angel' 2017\n	Chateau d'Esclans 'Rock Angel' 2017\n	Chateau d'Esclans 'Les Clans' 2016\n	Chateau d'Esclans 'Garrus' 2016\n\n\n\nThe cocktail will start at 6:30pm and dinner at 7:15pm.\n\n \n\n\nThis way for tickets and to register!\n \n\n\n \n\n*AAGEF is an association based in the USA for alumni of French Grandes Ecoles. Audencia is a member of AAGEF. Come along to events organised by the AAGEF team to connect with fellow Audencians but also alumni from other French Grandes Ecoles!*
BEGIN:VALARM
ACTION:DISPLAY
TRIGGER:-PT60M
DESCRIPTION:AAGEF wine pairing in New York, USA
END:VALARM
END:VEVENT
END:VCALENDAR