BEGIN:VCALENDAR
VERSION:2.0
X-WR-TIMEZONE:Europe/Paris
PRODID:-//Audencia//NONSGML v1.0//EN
CALSCALE:GREGORIAN
BEGIN:VEVENT
SUMMARY:Afterwork in Ho Chi Minh City, VIetnam
DTSTART:20180629T180000
DTEND:20180629T200000
UID:292
DTSTAMP:20260425T210005
LOCATION:Urban kitchen 18 Ngô Văn Năm, Bến Nghé, Quận 1,  HCMC
DESCRIPTION:Grandes Ecoles Friday drink \n\n\nDear Audencia friends,\n\nThis is a nice initiative from other Grandes Ecoles alumni where we are also invited.\n\n \n\n6-8pm\nFriday 29 june 2018\nUrban kitchen\n18 Ngô Văn Năm, Bến Nghé, Quận 1, HCMC\n\n\n\nPlease be more than welcome if you want to join, i will be there as well.\n\nCheers\n\nLaurent Tam
BEGIN:VALARM
ACTION:DISPLAY
TRIGGER:-PT60M
DESCRIPTION:Afterwork in Ho Chi Minh City, VIetnam
END:VALARM
END:VEVENT
END:VCALENDAR