BEGIN:VCALENDAR
VERSION:2.0
X-WR-TIMEZONE:Europe/Paris
PRODID:-//Audencia//NONSGML v1.0//EN
CALSCALE:GREGORIAN
BEGIN:VEVENT
SUMMARY:Apéro-pitch Club Entrepreneurs Paris
DTSTART:20180717T190000
DTEND:20180717T230000
UID:291
DTSTAMP:20260425T205842
LOCATION:The Hoxton - 32 rue du Sentier 75002 Paris
DESCRIPTION:Notre prochain évènement networking du club Entrepreneurs Paris se tiendra le mardi 17 juillet, de 19h à 23h  au lieu « The Hoxton » situé 32 rue du Sentier 75002 Paris.\n\nCet apéro-pitch sera à nouveau l’occasion pour vous de présenter vos projets dans une ambiance bienveillante et de vous enrichir de nos commentaires.\n\nEn résumé, ce sera l’occasion de : \n\n	Découvrir les projets portés par les entrepreneurs du Réseau\n	Comprendre le fonctionnement du réseau Alumni Audencia et vous y impliquer\n	Créer le lien avec les entrepreneurs Alumni\n\n\nPour vous inscrire cliquez en haut à droite.\n\nRéservez la date et au plaisir de vous y retrouver !\n\nStéphane Feuillu\nGE 1997\nAnimateur du Club Entrepreneurs & Business Angels Paris
BEGIN:VALARM
ACTION:DISPLAY
TRIGGER:-PT60M
DESCRIPTION:Apéro-pitch Club Entrepreneurs Paris
END:VALARM
END:VEVENT
END:VCALENDAR