BEGIN:VCALENDAR
VERSION:2.0
X-WR-TIMEZONE:Europe/Paris
PRODID:-//Audencia//NONSGML v1.0//EN
CALSCALE:GREGORIAN
BEGIN:VEVENT
SUMMARY:Webinar: How not to sleep walk your way into your next role
DTSTART:20181025T140000
DTEND:20181025T150000
UID:290
DTSTAMP:20260425T205814
LOCATION:Online
DESCRIPTION:If you’re finding it hard to get employers to short-list you, it may be because you look like every other candidate. Effective job searching in today’s market means having differentiated messages and clarity about why you are worth interviewing.\n\nBack by popular demand after his highly engaging webinar in January, John Lees will host this online presentation, covering the following topics:\n\n	Being aware of ‘default mode’ and how to avoid it\n	Bottling energy in written material and at interview\n	Understanding what makes a stand-out candidate\n	Repackaging transferable skills.\n	Proactive networking\n\n\nPlease note you must be a logged-in member of the AMBA community to book your free place, if you have any questions about your eligibility, or how to access the Community, please contact membership@mbaworld.com\n\n\nABOUT THE SPEAKER\nJohn Lees is a career transition coach and has published 13 books on work and careers including the best-selling How To Get A Job You Love, shortly out in its 10th (2019/20) edition. His books have been translated into Arabic, Georgian, Polish, Japanese and Spanish. John has degrees from the Universities of Cambridge, London and Liverpool. He has worked with a wide range of organisations on career management issues and regularly speaks at business schools across the UK.\nJohn is a NICEC Fellow, a Fellow of the CIPD, and was a founding board member of the Career Development Institute.\n \nRegister now >>\n\nLocation: Online\nDate: 25 October 2018\nTime: 14:00 to 15:00 Paris time\n\n\n \nThis webinar is accessible to students or alumni of an AMBA-accredited programme at Audencia, i.e., Executive MBA, EuroMBA, Full-Time MBA or Master in Management (Grande Ecole Programme), but registration is required. Registering as an alum of an AMBA-accredited programme takes only a few minutes.\nThis event is free for AMBA members to attend but registration is required. To register please log on to the Community using the link above.\n\n 
BEGIN:VALARM
ACTION:DISPLAY
TRIGGER:-PT60M
DESCRIPTION:Webinar: How not to sleep walk your way into your next role
END:VALARM
END:VEVENT
END:VCALENDAR