BEGIN:VCALENDAR
VERSION:2.0
X-WR-TIMEZONE:Europe/Paris
PRODID:-//Audencia//NONSGML v1.0//EN
CALSCALE:GREGORIAN
BEGIN:VEVENT
SUMMARY:Parcours Nouvel Elan 06 & 07 juillet 2017 (2 jours) : Tester et déployer ton projet
DTSTART:20170706T083000
DTEND:20170706T170000
UID:29
DTSTAMP:20260425T205720
LOCATION:Paris
DESCRIPTION:Ce parcours est pour toi si : \n- Tu souhaites rejoindre la dynamique d’un groupe pour construire ton projet, renforcer tes talents et ta confiance \n- Tu es à la recherche de ton premier job / second job \n- Tu souhaites obtenir des conseils pour piloter ta carrière professionnelle\n- Tu souhaites passer à l’action et tu as besoin de prendre confiance \n \nTester ton projet \n\n1. Apprendre à bien communiquer : CV Pitch (réussir à bien se présenter en quelques minutes), profil Linked In, stratégie réseau... \n2. Se préparer aux entretiens & réussir en short-list : simulation d’entretien, négociation salariale, questions piège ...\n \nOutils & Méthode \n\n\n	Atelier interactif en groupe de 6 à 12 personnes \n	Des simulations entretiens / vidéos\n	Des feedbacks du groupe\n	L'avis des spécialistes du recrutement\n\n \n\nDéployer ton projet \n\n1. Définir un plan d'action de mise en oeuvre \n2. Donner du relief à ses outils de communication : CV Pitch 3’, profil Linked In, ... \n3. Gagner en impact et en conviction dans son personnal branding lors des entretiens\n \nOutils & Méthodes\n\n\n	Atelier interactif en groupe de 6 à 12 personnes \n	Simulation entretiens / vidéos\n	Feedbacks du groupe\n	Feedbacks de spécialistes du recrutement\n\n \n\nINSCRIPTION A LA CARTE\n\nParcours 2 jours - 12 & 13 juin : Définir ton projet\nParcours complet 4 jours - 06 & 07 juillet / 12 & 13 juin : Définir, tester et déployer ton projet
BEGIN:VALARM
ACTION:DISPLAY
TRIGGER:-PT60M
DESCRIPTION:Parcours Nouvel Elan 06 & 07 juillet 2017 (2 jours) : Tester et déployer ton projet
END:VALARM
END:VEVENT
END:VCALENDAR