BEGIN:VCALENDAR
VERSION:2.0
X-WR-TIMEZONE:Europe/Paris
PRODID:-//Audencia//NONSGML v1.0//EN
CALSCALE:GREGORIAN
BEGIN:VEVENT
SUMMARY:Webinar: Developing a point of view to generate ideas
DTSTART:20180913T140000
DTEND:20180913T150000
UID:289
DTSTAMP:20260425T205909
LOCATION:Online
DESCRIPTION:Does the idea of generating ideas, brainstorming and igniting creativity within yourself and amongst others, fill you with dread?\n\nWorry not. This interactive webinar run by international best-selling author of The Diagrams Book and The Ideas Book, Kevin Duncan, will show you how to develop a point of view that will allow you to effectively communicate your best ideas.\n\nDuring the session, Kevin will talk about:\n\n	How to develop a distinctive Point of View and generate ideas effectively\n	How to prepare properly for running brainstorms\n	How to set about generating ideas\n	A range of techniques for generating ideas\n	How creativity works, and how to nurture it  \n\n\nPlease note you must be a logged-in member of the AMBA community to book your free place, if you have any questions about your eligibility, or how to access the Community, please contact membership@mbaworld.com\n\nABOUT THE SPEAKER\nKevin is a business adviser, marketing expert, motivational speaker and author.\n\nAfter 20 years in advertising, he spent the past 18 years as an independent trouble-shooter, advising companies on how to change their businesses for the better, via change management programmes, training, facilitation, and non-exec work. He has written sixteen books, all of which pursue the theme of simplifying businesses and making them more successful. These have sold around 150,000 copies, been voted Telegraph Business Club Books of the Week, been nominated for CMI Management Book of the Year, and been translated into French, Portuguese, Polish, Russian, and Turkish.\n\nHe has also pioneered their production in digital formats such as podcasts, ebooks, and iphone and ipad apps. He has worked with more than 400 clients, deployed £600m of funds on more than 200 brands, overseen 1,000 projects, and won 35 awards for creativity and effectiveness. He has trained in excess of 6,000 people and tutors at Kings College London.\n\nHis Greatest Hits blog summarises the thinking in more than 250 business books and is accessed by thousands of people monthly.\n \nRegister now >>\n\nLocation: Online\nDate: 13 September 2018\nTime: 14:00 to 15:00 Paris time\n\n \nThis webinar is accessible to students or alumni of an AMBA-accredited programme at Audencia, i.e., Executive MBA, EuroMBA, Full-Time MBA or Master in Management (Grande Ecole Programme), but registration is required. Registering as an alum of an AMBA-accredited programme takes only a few minutes.\nThis event is free for AMBA members to attend but registration is required. To register please log on to the Community using the link above.
BEGIN:VALARM
ACTION:DISPLAY
TRIGGER:-PT60M
DESCRIPTION:Webinar: Developing a point of view to generate ideas
END:VALARM
END:VEVENT
END:VCALENDAR