BEGIN:VCALENDAR
VERSION:2.0
X-WR-TIMEZONE:Europe/Paris
PRODID:-//Audencia//NONSGML v1.0//EN
CALSCALE:GREGORIAN
BEGIN:VEVENT
SUMMARY:Promo GE 2008... les 10 ans !
DTSTART:20181013T190000
DTEND:20260425T205726
UID:288
DTSTAMP:20260425T205726
LOCATION:Péniche à quai La Baleine Blanche Port de la gare 75013 Paris
DESCRIPTION:\n\nSalut à toutes et à tous,\n\nVous souhaitez fêter les 10 ans de la Promo Audencia 2008 et c'est un excellent choix !\n \nRdv sur la péniche à quai 'La Baleine Blanche'\nPort de la gare - 75013 Paris\nSamedi 13 octobre de 19h à 2h\n\n\nLa soirée prendra la forme d’un grand cocktail dinatoire incluant petits fours salés et sucrés, alcools et ambiance musicale (#Equinoxe). Il y aura deux salles - deux ambiances (#FeelingTropical/#Louxor), des coins lounges - priorité aux femmes enceintes - et une piste de danse pour se trémousser sur les tubes de 2004 à 2008, voire plus.\n\nL’équipe d’orga (Julia Chevreton, Julien Castel et Mika Marnier) ainsi que l’équipe d’Audencia Alumni espérons vous y retrouver nombreux.\nSi vous voulez revivre l’ambiance et la chaleur du #QuaiWest et du #Calysto, passez le mot à vos amis de Promo !! \n\nTous les Audencia 2008 sont bienvenus, tant les adhérents Audencia Alumni que les non-adhérents. Les conjoints sont aussi les bienvenus ! Par contre, pas de garderie à bord. On vous laisse gérer la garde des bambins...\n\nA très bientôt,  \nJulia C., Julien C., Mickaël M. \n\n \n\nINSCRIVEZ-VOUS en haut à droite\nConnectez-vous au préalable (en haut à droite) et créez votre profil si ce n'est pas déjà fait. Il vous suffira alors de cliquer sur "s'inscrire". Votre identifiant est votre e-mail connu d'Audencia Alumni. Vous rencontrez un problème ? Contactez Laetitia Caliez, lcaliez@audencia.com.\n \nPour des raisons d'organisation, toute annulation après le 20/09/18 ne pourra être remboursée.\n\n\n \n\n            \n\n \n\n        \n\n \n 
BEGIN:VALARM
ACTION:DISPLAY
TRIGGER:-PT60M
DESCRIPTION:Promo GE 2008... les 10 ans !
END:VALARM
END:VEVENT
END:VCALENDAR