BEGIN:VCALENDAR
VERSION:2.0
X-WR-TIMEZONE:Europe/Paris
PRODID:-//Audencia//NONSGML v1.0//EN
CALSCALE:GREGORIAN
BEGIN:VEVENT
SUMMARY:Webinar: Middle out decisions, organisational momentum and human bias in strategic decision making
DTSTART:20180618T130000
DTEND:20180618T140000
UID:287
DTSTAMP:20260425T205955
LOCATION:Online
DESCRIPTION:DR SIMON HASLAM, CO-AUTHOR OF STRATEGIC DECISION MAKING: A DISCOVER-LED APPROACH FOR TURBULENT TIMES\nDr Simon Haslam is a Chartered Director, strategy consultant and strategy programme lead at the Institute of Directors. He is a Visiting Fellow at Durham University Business School and co-owns the research and consulting firm FMR Research. He consults internationally to public, private and third sector organisations.\n\nDR BEN SHENOY, CO-AUTHOR OF STRATEGIC DECISION MAKING: A DISCOVER-LED APPROACH FOR TURBULENT TIMES\nDr Ben Shenoy explores, decodes and narrates how behavioural science can untangle organizational dilemmas in perplexing times. He is a Visiting Professor at The London School of Economics and Director of the Business Insights Lab at the University of Surrey. He can be found online at BenShenoy.com and @BenShenoy.\n \nRegister now >>\n\nLocation: Online\nDate: 18 June 2018\nTime: 13:00 to 14:00 (Paris time) \n\n \nThis webinar is accessible to students or alumni of an AMBA-accredited programme at Audencia, i.e., Executive MBA, EuroMBA, Full-Time MBA or Master in Management (Grande Ecole Programme), but registration is required. Registering as an alum of an AMBA-accredited programme takes only a few minutes. This event is free for AMBA members to attend but registration is required. To register please log on to the Community using the link above.\n\n\nIf you have any questions about your eligibility, or how to access the Community, please contact membership@mbaworld.com\n 
BEGIN:VALARM
ACTION:DISPLAY
TRIGGER:-PT60M
DESCRIPTION:Webinar: Middle out decisions, organisational momentum and human bias in strategic decision making
END:VALARM
END:VEVENT
END:VCALENDAR