BEGIN:VCALENDAR
VERSION:2.0
X-WR-TIMEZONE:Europe/Paris
PRODID:-//Audencia//NONSGML v1.0//EN
CALSCALE:GREGORIAN
BEGIN:VEVENT
SUMMARY:AMBA Connect in Amsterdam, The Netherlands
DTSTART:20180703T180000
DTEND:20180703T213000
UID:286
DTSTAMP:20260425T205723
LOCATION:Primalbase Van Diemenstraat 20-200, 1013NH Amsterdam
DESCRIPTION:Did you graduate from an AMBA-accredited programme at Audencia?\n\nAlumni from Audencia's Grande Ecole and MBA (full-time, executive part-time & EuroMBA) programmes are invited by AMBA, the Association of MBAs for an evening of networking and relationship-building in Amsterdam with students and alumni of AMBA-accredited programmes.\n\nAMBA's Membership Manager, Tariro Masukume, will be giving a short presentation about the benefits of AMBA membership, following the guest speaker who will be announced very soon. \n \n\nLocation: Primalbase\nDate: 3 July 2018\nTime: 18:00 to 21:30\nAddress: Van Diemenstraat 20-200, 1013NH Amsterdam\n\n\nRegister for free today >>\n\nThis event is free for students and graduates of AMBA-accredited programmes but online registration is required.\nIf you have not activated your free AMBA membership, please select 'not yet an AMBA member' at checkout, and complete the required fields to apply.\n\nActivation of your membership will then be confirmed after the event by the Membership Team, once your eligibility has been verified. If you have any questions please contact the Membership Team (membership@mbaworld.com) who will be happy to help.\n\n\n 
BEGIN:VALARM
ACTION:DISPLAY
TRIGGER:-PT60M
DESCRIPTION:AMBA Connect in Amsterdam, The Netherlands
END:VALARM
END:VEVENT
END:VCALENDAR